BEGIN:VCALENDAR
VERSION:2.0
PRODID:-//Tukios.com/
BEGIN:VEVENT
UID:f48088da-3538-45b2-b241-442e81a5654e@www.mayhewfuneralhomes.com
DTSTAMP:20260423T203823Z
DTSTART:20260611T150000Z
DTEND:20260611T153000Z
SUMMARY:Graveside Service
DESCRIPTION:
URL:https://www.mayhewfuneralhomes.com/obituaries/william-allen
LOCATION:Meredith Village Cemetery     
GEO:0;0
END:VEVENT
END:VCALENDAR